BEGIN:VCALENDAR
VERSION:2.0
PRODID:-//Sabre//Sabre VObject 3.5.3//EN
CALSCALE:GREGORIAN
BEGIN:VTIMEZONE
TZID:Europe/London
BEGIN:STANDARD
TZNAME:GMT
DTSTART:19701025T020000
RRULE:FREQ=YEARLY;BYMONTH=10;BYDAY=-1SU
TZOFFSETFROM:+0100
TZOFFSETTO:+0000
END:STANDARD
BEGIN:DAYLIGHT
TZNAME:BST
DTSTART:19700329T010000
RRULE:FREQ=YEARLY;BYMONTH=3;BYDAY=-1SU
TZOFFSETFROM:+0000
TZOFFSETTO:+0100
END:DAYLIGHT
END:VTIMEZONE
BEGIN:VEVENT
UID:event_187455@swchoral.org.uk
DTSTART;TZID=Europe/London:20250628T193000
DTEND;TZID=Europe/London:20250628T213000
SUMMARY:Mozart\, Mendelssohn and Haydn
DESCRIPTION:Saffron Walden Choral Society will be joined by the East Anglia
  Chamber Orchestra.\n\nMozart - Solemn Vespers\nMendelssosn - Hebrides Ove
 rture\nHaydn - Theresienmesse\n\nConductor Quintin Beer\nSoprano Felicity 
 Hamilton\nMezzo Bernadette Johns\nTenor Benjamin Durrant\nBaritone Jamie W
  Hall\n\nFor full event details\, visit: https://www.swchoral.org.uk/dbpag
 e.php?pg=view&dbase=events&id=187455
LOCATION:Saffron Hall\, Audley End Road\, Saffron Walden\, CB11 4UH
URL:https://www.swchoral.org.uk/dbpage.php?pg=view&dbase=events&id=187455
END:VEVENT
END:VCALENDAR
